BEGIN:VCALENDAR
VERSION:2.0
PRODID:-//LeadingAge Missouri - ECPv6.15.14//NONSGML v1.0//EN
CALSCALE:GREGORIAN
METHOD:PUBLISH
X-WR-CALNAME:LeadingAge Missouri
X-ORIGINAL-URL:https://leadingagemissouri.org
X-WR-CALDESC:Events for LeadingAge Missouri
REFRESH-INTERVAL;VALUE=DURATION:PT1H
X-Robots-Tag:noindex
X-PUBLISHED-TTL:PT1H
BEGIN:VTIMEZONE
TZID:America/Chicago
BEGIN:DAYLIGHT
TZOFFSETFROM:-0600
TZOFFSETTO:-0500
TZNAME:CDT
DTSTART:20250309T080000
END:DAYLIGHT
BEGIN:STANDARD
TZOFFSETFROM:-0500
TZOFFSETTO:-0600
TZNAME:CST
DTSTART:20251102T070000
END:STANDARD
BEGIN:DAYLIGHT
TZOFFSETFROM:-0600
TZOFFSETTO:-0500
TZNAME:CDT
DTSTART:20260308T080000
END:DAYLIGHT
BEGIN:STANDARD
TZOFFSETFROM:-0500
TZOFFSETTO:-0600
TZNAME:CST
DTSTART:20261101T070000
END:STANDARD
BEGIN:DAYLIGHT
TZOFFSETFROM:-0600
TZOFFSETTO:-0500
TZNAME:CDT
DTSTART:20270314T080000
END:DAYLIGHT
BEGIN:STANDARD
TZOFFSETFROM:-0500
TZOFFSETTO:-0600
TZNAME:CST
DTSTART:20271107T070000
END:STANDARD
END:VTIMEZONE
BEGIN:VEVENT
DTSTART;TZID=America/Chicago:20260304T130000
DTEND;TZID=America/Chicago:20260304T143000
DTSTAMP:20260423T025641
CREATED:20251212T173315Z
LAST-MODIFIED:20251212T173627Z
UID:10000101-1772629200-1772634600@leadingagemissouri.org
SUMMARY:Making Sense of the Budget - Skills for Leaders at Every Level
DESCRIPTION:This program has been approved for Continuing Education for 4.5 total participant hours by NAB/NCERS—Approval #20270217-3-A117586-DL.\n1.5 NAB credits will be awarded per full session attended. \n About the Series: \nBudgeting is part of leadership\, and we know it can feel intimidating.  But it doesn’t have to. \nIf you want a clearer understanding of how decisions are made\, how budgets are built\, and how to use your numbers to lead more confidently\, this series is for you. \nAcross three virtual sessions\, we’ll guide you through understanding your organization’s business model\, creating a budget grounded in real goals\, and managing that budget throughout the year. You’ll walk away with practical tools\, clearer expectations\, and the confidence to participate fully in conversations that shape your organization’s future. \nFollowing this series\, you will be able to: \n\nUnderstand how your organization’s business model shapes decisions and expectations\, and see clearly how your role fits into that larger picture.\nTranslate organizational goals into practical budget needs for your department or area of responsibility.\nParticipate confidently in the annual budget process\, knowing what’s expected at each step and how leaders contribute.\nUse your budget as a year-round leadership tool to monitor performance\, understand variances\, and make informed decisions.\nCommunicate budget needs and results clearly\, including when making the case for new resources or changes.\n\nSESSION 1:\nFebruary 18\, 2026 | 1:00 pm – 2:30 pm CST | 1.5 NAB Credits\nUnderstanding Business Models and Your Role in Budgeting \nBefore you try to build or manage a budget\, you need to understand the business objectives of your organization.  In fact\, you need to understand the business goals of the organization and how they impact what you as a leader need to do over the upcoming year.  In this session\, we will talk about the concept of a business model\, how it applies to organizations\, and how organizations can run multiple business models that have unique goals and objectives.  We will also look at the business models of departments\, and how that impacts the budget planning for a leader’s area of responsibility.  Finally\, we will look at the role of the leader in the annual budget process. \nSESSION 2: \nMarch 4\, 2026 | 1:00 pm – 2:30 pm CST | 1.5 NAB Credits\nCreating a Budget: It’s a Team Sport \nOnce you understand the goals of the organization\, this understanding needs to be translated into the budget needs for the year.  We will discuss the budget process\, how it is run\, and what the expectations of different levels of leadership are in the process.  We will also talk about different types of budgets such as operating and capital budgets\, and the differences between a budget and a forecast.  We will also look at the concept of a business case to help leaders explain the need for funding for new initiatives or budget needs. \nSESSION 3:\nMarch 25\, 2026 | 1:00 pm – 2:30 pm CST | 1.5 NAB Credits\nManaging the Budget: It’s a Year-Round Process \nOnce the budget is built\, it should be used to monitor performance.  What does that mean\, and how should leaders look at their budgets?  We will talk about the role of the leader in understanding and reporting on budget variances\, discuss some of the tools that will help in monitoring the budget\, and discuss how changes or unexpected results in one part of an organization can influence what is expected from other departments or from other leaders.  We will conclude this session with a final summary of the annual budgeting process.
URL:https://leadingagemissouri.org/event/7995/2026-03-04/
CATEGORIES:Governance,Leadership,Management,Operations
ATTACH;FMTTYPE=image/png:https://leadingagemissouri.org/wp-content/uploads/2025/12/Picture12.png
LOCATION:https://leadingagemissouri.org/event/7995/2026-03-04/
END:VEVENT
END:VCALENDAR