BEGIN:VCALENDAR
VERSION:2.0
PRODID:-//LeadingAge Missouri - ECPv6.15.14//NONSGML v1.0//EN
CALSCALE:GREGORIAN
METHOD:PUBLISH
X-ORIGINAL-URL:https://leadingagemissouri.org
X-WR-CALDESC:Events for LeadingAge Missouri
REFRESH-INTERVAL;VALUE=DURATION:PT1H
X-Robots-Tag:noindex
X-PUBLISHED-TTL:PT1H
BEGIN:VTIMEZONE
TZID:America/Chicago
BEGIN:DAYLIGHT
TZOFFSETFROM:-0600
TZOFFSETTO:-0500
TZNAME:CDT
DTSTART:20240310T080000
END:DAYLIGHT
BEGIN:STANDARD
TZOFFSETFROM:-0500
TZOFFSETTO:-0600
TZNAME:CST
DTSTART:20241103T070000
END:STANDARD
BEGIN:DAYLIGHT
TZOFFSETFROM:-0600
TZOFFSETTO:-0500
TZNAME:CDT
DTSTART:20250309T080000
END:DAYLIGHT
BEGIN:STANDARD
TZOFFSETFROM:-0500
TZOFFSETTO:-0600
TZNAME:CST
DTSTART:20251102T070000
END:STANDARD
BEGIN:DAYLIGHT
TZOFFSETFROM:-0600
TZOFFSETTO:-0500
TZNAME:CDT
DTSTART:20260308T080000
END:DAYLIGHT
BEGIN:STANDARD
TZOFFSETFROM:-0500
TZOFFSETTO:-0600
TZNAME:CST
DTSTART:20261101T070000
END:STANDARD
END:VTIMEZONE
BEGIN:VEVENT
DTSTART;TZID=America/Chicago:20251119T130000
DTEND;TZID=America/Chicago:20251119T140000
DTSTAMP:20260423T042924
CREATED:20251106T151909Z
LAST-MODIFIED:20251106T151909Z
UID:10000097-1763557200-1763560800@leadingagemissouri.org
SUMMARY:PTSD and Behavioral Dysregulation: From Hyperarousal to Shutdown - Free Learning Webinar
DESCRIPTION:From our Business Member: Bespoke Psychiatry \n\n\n\nIn long-term care\, up to one in five residents show trauma-related symptoms\, yet these signs are often misread as dementia or resistance. \nJoin us for our upcoming webinar\, PTSD and Behavioral Dysregulation: From Hyperarousal to Shutdown\, to learn how you can improve care. \nDate: November 19\, 2025 \nTime: 1:00 pm \nSpeaker: Dr. Ahmed Maki\, DO\, Medical Director of Post-Acute Care and Inpatient Divisions\n\n\n\n\n\n\n\n\n\n\nJoin Here\n\n\n\n\n\n\n\n  \n\n\n\n  Video call link: https://meet.google.com/qbz-wabi-ibf\nOr dial: ‪(US) +1 754-702-3137 PIN: ‪501 812 005#\nMore phone numbers: https://tel.meet/qbz-wabi-ibf?pin=7778447725451.\n\n\n\n 
URL:https://leadingagemissouri.org/event/ptsd-and-behavioral-dysregulation-from-hyperarousal-to-shutdown-free-learning-webinar/
CATEGORIES:Activity Professionals,Caregivers,Leadership,Management,Operations
ATTACH;FMTTYPE=image/png:https://leadingagemissouri.org/wp-content/uploads/2025/04/BespokeLogo.png
END:VEVENT
END:VCALENDAR