BEGIN:VCALENDAR
VERSION:2.0
PRODID:-//LeadingAge Missouri - ECPv6.15.14//NONSGML v1.0//EN
CALSCALE:GREGORIAN
METHOD:PUBLISH
X-WR-CALNAME:LeadingAge Missouri
X-ORIGINAL-URL:https://leadingagemissouri.org
X-WR-CALDESC:Events for LeadingAge Missouri
REFRESH-INTERVAL;VALUE=DURATION:PT1H
X-Robots-Tag:noindex
X-PUBLISHED-TTL:PT1H
BEGIN:VTIMEZONE
TZID:America/Chicago
BEGIN:DAYLIGHT
TZOFFSETFROM:-0600
TZOFFSETTO:-0500
TZNAME:CDT
DTSTART:20240310T080000
END:DAYLIGHT
BEGIN:STANDARD
TZOFFSETFROM:-0500
TZOFFSETTO:-0600
TZNAME:CST
DTSTART:20241103T070000
END:STANDARD
BEGIN:DAYLIGHT
TZOFFSETFROM:-0600
TZOFFSETTO:-0500
TZNAME:CDT
DTSTART:20250309T080000
END:DAYLIGHT
BEGIN:STANDARD
TZOFFSETFROM:-0500
TZOFFSETTO:-0600
TZNAME:CST
DTSTART:20251102T070000
END:STANDARD
BEGIN:DAYLIGHT
TZOFFSETFROM:-0600
TZOFFSETTO:-0500
TZNAME:CDT
DTSTART:20260308T080000
END:DAYLIGHT
BEGIN:STANDARD
TZOFFSETFROM:-0500
TZOFFSETTO:-0600
TZNAME:CST
DTSTART:20261101T070000
END:STANDARD
END:VTIMEZONE
BEGIN:VEVENT
DTSTART;TZID=America/Chicago:20250731T180000
DTEND;TZID=America/Chicago:20250731T190000
DTSTAMP:20260423T184805
CREATED:20250603T144803Z
LAST-MODIFIED:20250711T152231Z
UID:10000076-1753984800-1753988400@leadingagemissouri.org
SUMMARY:Planetary Defense - DART Mission - Free Activity Event
DESCRIPTION:DART: Double Asteroid Redirection Test—The First Planetary Defense Test Mission\nTalk Description: NASA’s DART (Double Asteroid Redirection Test) mission was a groundbreaking planetary defense experiment designed to test if we could actually “nudge” an asteroid off course. Imagine a small spacecraft\, about the size of a golf cart\, deliberately crashing into an asteroid in space. That’s essentially what DART did! Its target was Dimorphos\, a small moonlet orbiting a larger asteroid named Didymos\, neither of which posed any threat to Earth. By intentionally smashing into Dimorphos at incredible speeds in September 2022\, DART successfully changed the moonlet’s orbital period around its larger companion by 33 minutes—far exceeding expectations. This historic impact proved that the “kinetic impactor” technique\, where a spacecraft directly collides with an asteroid\, is a viable method to potentially alter the trajectory of a hazardous asteroid\, giving us a vital tool in protecting our planet should a dangerous one ever be headed our way.\nSpeaker: Dr. Ramin Lolachi (NASA’s Goddard Space Flight Center)\nSpeaker Bio: Dr. Ramin Lolachi is a planetary scientist working for the University of Maryland\, Baltimore Co. (UMBC) based at NASA’s Goddard Spaceflight Center. He was part of the DART Investigation Team and used images of the impact\, taken by the Italian Space Agency’s LICIACube spacecraft as it flew past\, to measure how much mass was ejected. His research interests include looking at dust on airless bodies like the Moon and asteroids (more interesting than you think!) and looking for water in the atmosphere of Mars.\nWebinar Connection Info:\n\nJoin the meeting now\nMeeting ID: 267 145 142 081 9\nPasscode: 4GU9Zu6T\nJoin by phone: +1-256-715-9946 (phone conference ID: 394 308 012#)\n\n\n\n 
URL:https://leadingagemissouri.org/event/planetary-defense-dart-mission-free-activity-event/
CATEGORIES:Activity Professionals
ATTACH;FMTTYPE=image/png:https://leadingagemissouri.org/wp-content/uploads/2025/06/Picture1.png
END:VEVENT
END:VCALENDAR