BEGIN:VCALENDAR
VERSION:2.0
PRODID:-//LeadingAge Missouri - ECPv6.15.14//NONSGML v1.0//EN
CALSCALE:GREGORIAN
METHOD:PUBLISH
X-WR-CALNAME:LeadingAge Missouri
X-ORIGINAL-URL:https://leadingagemissouri.org
X-WR-CALDESC:Events for LeadingAge Missouri
REFRESH-INTERVAL;VALUE=DURATION:PT1H
X-Robots-Tag:noindex
X-PUBLISHED-TTL:PT1H
BEGIN:VTIMEZONE
TZID:America/Chicago
BEGIN:DAYLIGHT
TZOFFSETFROM:-0600
TZOFFSETTO:-0500
TZNAME:CDT
DTSTART:20240310T080000
END:DAYLIGHT
BEGIN:STANDARD
TZOFFSETFROM:-0500
TZOFFSETTO:-0600
TZNAME:CST
DTSTART:20241103T070000
END:STANDARD
BEGIN:DAYLIGHT
TZOFFSETFROM:-0600
TZOFFSETTO:-0500
TZNAME:CDT
DTSTART:20250309T080000
END:DAYLIGHT
BEGIN:STANDARD
TZOFFSETFROM:-0500
TZOFFSETTO:-0600
TZNAME:CST
DTSTART:20251102T070000
END:STANDARD
BEGIN:DAYLIGHT
TZOFFSETFROM:-0600
TZOFFSETTO:-0500
TZNAME:CDT
DTSTART:20260308T080000
END:DAYLIGHT
BEGIN:STANDARD
TZOFFSETFROM:-0500
TZOFFSETTO:-0600
TZNAME:CST
DTSTART:20261101T070000
END:STANDARD
END:VTIMEZONE
BEGIN:VEVENT
DTSTART;TZID=America/Chicago:20250611T090000
DTEND;TZID=America/Chicago:20250611T120000
DTSTAMP:20260423T190757
CREATED:20250221T012313Z
LAST-MODIFIED:20250306T145839Z
UID:10000036-1749632400-1749643200@leadingagemissouri.org
SUMMARY:Management Strategies for Workers Compensation in Today’s Long-Term Care Environment - June 11-12\, 2025
DESCRIPTION:Seminar is Free for Leading Age and HCFM members. Cost is $75 for non-members. \nProgram Objective: Learn the elements of Total Safety Management\, a comprehensive behavior- based safety program\, to reduce employee injury and minimize workers compensation expense. Learn about claims management and the HCFM workers compensation insurance trust. \nRegister Here! June 11-12\nJune 11 https://us02web.zoom.us/meeting/register/tZIqf-ygpjwtGtWHawXNAuTNd50TElIwnDt5 \nJune 12 https://us02web.zoom.us/meeting/register/tZAod–upzwiE9SsUap-tIzi4QSY_Ex1x3BZ \nDay 1 Agenda\n9:00-9:30 Background and Overview of HCFM Anthony Ross\, Carpenter and Company\n9:30-10:15 Total Safey Management Jake Woolfenden/Jill Burford\, Summit Safety\n10:15-10:30 Break\n10:30-11:45 Total Safety Management (cont.) Jake Woolfenden/Jill Burford\, Summit Safety \nDay 2 Agenda\n9:00-10:15 Claims Management Lucille DiMaria/Michael Moll\, Corvel\n10:15-10:30 Break\n10:30-11:30 Drug Testing Angela Garrison\, Tomo Drug Testing\n11:30-11:45 Wrap up Jill Burford\, Summit Safety \nContinuing Education Credits: Approved for 5.0 Administrator Clock Hours by the Missouri Board of Nursing Home Administrators. (TA# 015-31-26)
URL:https://leadingagemissouri.org/event/management-strategies-for-workers-compensation-in-todays-long-term-care-environment-june-11-12-2025/2025-06-11/
CATEGORIES:Human Resources,Leadership,Management,Operations
LOCATION:
END:VEVENT
BEGIN:VEVENT
DTSTART;TZID=America/Chicago:20250612T090000
DTEND;TZID=America/Chicago:20250612T120000
DTSTAMP:20260423T190757
CREATED:20250221T012313Z
LAST-MODIFIED:20250306T145839Z
UID:10000037-1749718800-1749729600@leadingagemissouri.org
SUMMARY:Management Strategies for Workers Compensation in Today’s Long-Term Care Environment - June 11-12\, 2025
DESCRIPTION:Seminar is Free for Leading Age and HCFM members. Cost is $75 for non-members. \nProgram Objective: Learn the elements of Total Safety Management\, a comprehensive behavior- based safety program\, to reduce employee injury and minimize workers compensation expense. Learn about claims management and the HCFM workers compensation insurance trust. \nRegister Here! June 11-12\nJune 11 https://us02web.zoom.us/meeting/register/tZIqf-ygpjwtGtWHawXNAuTNd50TElIwnDt5 \nJune 12 https://us02web.zoom.us/meeting/register/tZAod–upzwiE9SsUap-tIzi4QSY_Ex1x3BZ \nDay 1 Agenda\n9:00-9:30 Background and Overview of HCFM Anthony Ross\, Carpenter and Company\n9:30-10:15 Total Safey Management Jake Woolfenden/Jill Burford\, Summit Safety\n10:15-10:30 Break\n10:30-11:45 Total Safety Management (cont.) Jake Woolfenden/Jill Burford\, Summit Safety \nDay 2 Agenda\n9:00-10:15 Claims Management Lucille DiMaria/Michael Moll\, Corvel\n10:15-10:30 Break\n10:30-11:30 Drug Testing Angela Garrison\, Tomo Drug Testing\n11:30-11:45 Wrap up Jill Burford\, Summit Safety \nContinuing Education Credits: Approved for 5.0 Administrator Clock Hours by the Missouri Board of Nursing Home Administrators. (TA# 015-31-26)
URL:https://leadingagemissouri.org/event/management-strategies-for-workers-compensation-in-todays-long-term-care-environment-june-11-12-2025/2025-06-12/
CATEGORIES:Human Resources,Leadership,Management,Operations
LOCATION:
END:VEVENT
END:VCALENDAR