BEGIN:VCALENDAR
VERSION:2.0
PRODID:-//LeadingAge Missouri - ECPv6.15.14//NONSGML v1.0//EN
CALSCALE:GREGORIAN
METHOD:PUBLISH
X-WR-CALNAME:LeadingAge Missouri
X-ORIGINAL-URL:https://leadingagemissouri.org
X-WR-CALDESC:Events for LeadingAge Missouri
REFRESH-INTERVAL;VALUE=DURATION:PT1H
X-Robots-Tag:noindex
X-PUBLISHED-TTL:PT1H
BEGIN:VTIMEZONE
TZID:America/Chicago
BEGIN:DAYLIGHT
TZOFFSETFROM:-0600
TZOFFSETTO:-0500
TZNAME:CDT
DTSTART:20250309T080000
END:DAYLIGHT
BEGIN:STANDARD
TZOFFSETFROM:-0500
TZOFFSETTO:-0600
TZNAME:CST
DTSTART:20251102T070000
END:STANDARD
BEGIN:DAYLIGHT
TZOFFSETFROM:-0600
TZOFFSETTO:-0500
TZNAME:CDT
DTSTART:20260308T080000
END:DAYLIGHT
BEGIN:STANDARD
TZOFFSETFROM:-0500
TZOFFSETTO:-0600
TZNAME:CST
DTSTART:20261101T070000
END:STANDARD
BEGIN:DAYLIGHT
TZOFFSETFROM:-0600
TZOFFSETTO:-0500
TZNAME:CDT
DTSTART:20270314T080000
END:DAYLIGHT
BEGIN:STANDARD
TZOFFSETFROM:-0500
TZOFFSETTO:-0600
TZNAME:CST
DTSTART:20271107T070000
END:STANDARD
END:VTIMEZONE
BEGIN:VEVENT
DTSTART;TZID=America/Chicago:20260219T180000
DTEND;TZID=America/Chicago:20260219T190000
DTSTAMP:20260422T223716
CREATED:20260204T163303Z
LAST-MODIFIED:20260212T181929Z
UID:10000103-1771524000-1771527600@leadingagemissouri.org
SUMMARY:NASA Free Activity Learning Event - StarBurst: Gamma-Ray Hunter
DESCRIPTION:Talk Title: NASA’s StarBurst Mission\nTalk Description: StarBurst is one of NASA’s new Pioneer-class missions and is designed to act as an all-sky monitor for powerful cosmic explosions across the universe. About the size of a small refrigerator when stowed for launch\, this 650 lb. satellite will orbit Earth at an altitude of over 300 miles and continuously monitor the sky at gamma-ray wavelengths to catch the telltale sign of supernovae and collisions of neutron stars. StarBurst will use NASA’s constellation of communication satellites to send rapid alerts to astronomers around the world so they can immediately follow up on these detections. In this talk\, Dr. Dan Kocevski will describe the scientific motivation for the mission as well as the process of building and preparing the spacecraft for launch.\nSpeaker: Dr. Daniel Kocevski (NASA’s Marshall Space Flight Center)\nSpeaker Bio: Dr. Daniel Kocevski is an astrophysicist at NASA’s Marshall Space Flight Center where he studies the universe using NASA’s suit of space-based observatories.\nWebinar Connection Info:\n\nJoin the meeting now\nMeeting ID: 230 059 016 606 6\nPasscode: wY9S8UT7\nJoin by phone: +1-256-715-9946 (phone conference ID: 827 530 24#)\n\n\n\n  \nWe also have a Google Form to sign up for the program\, so feel free to share with other senior living communities that might be interested in joining. \n 
URL:https://leadingagemissouri.org/event/nasa-free-activity-learning-event-starburst-gamma-ray-hunter/
CATEGORIES:Activity Professionals
ATTACH;FMTTYPE=image/png:https://leadingagemissouri.org/wp-content/uploads/2025/06/Picture1.png
END:VEVENT
END:VCALENDAR