BEGIN:VCALENDAR
VERSION:2.0
PRODID:-//LeadingAge Missouri - ECPv6.15.14//NONSGML v1.0//EN
CALSCALE:GREGORIAN
METHOD:PUBLISH
X-ORIGINAL-URL:https://leadingagemissouri.org
X-WR-CALDESC:Events for LeadingAge Missouri
REFRESH-INTERVAL;VALUE=DURATION:PT1H
X-Robots-Tag:noindex
X-PUBLISHED-TTL:PT1H
BEGIN:VTIMEZONE
TZID:America/Chicago
BEGIN:DAYLIGHT
TZOFFSETFROM:-0600
TZOFFSETTO:-0500
TZNAME:CDT
DTSTART:20240310T080000
END:DAYLIGHT
BEGIN:STANDARD
TZOFFSETFROM:-0500
TZOFFSETTO:-0600
TZNAME:CST
DTSTART:20241103T070000
END:STANDARD
BEGIN:DAYLIGHT
TZOFFSETFROM:-0600
TZOFFSETTO:-0500
TZNAME:CDT
DTSTART:20250309T080000
END:DAYLIGHT
BEGIN:STANDARD
TZOFFSETFROM:-0500
TZOFFSETTO:-0600
TZNAME:CST
DTSTART:20251102T070000
END:STANDARD
BEGIN:DAYLIGHT
TZOFFSETFROM:-0600
TZOFFSETTO:-0500
TZNAME:CDT
DTSTART:20260308T080000
END:DAYLIGHT
BEGIN:STANDARD
TZOFFSETFROM:-0500
TZOFFSETTO:-0600
TZNAME:CST
DTSTART:20261101T070000
END:STANDARD
END:VTIMEZONE
BEGIN:VEVENT
DTSTART;TZID=America/Chicago:20251113T080000
DTEND;TZID=America/Chicago:20251113T171500
DTSTAMP:20260423T030146
CREATED:20250812T191040Z
LAST-MODIFIED:20251015T191327Z
UID:10000087-1763020800-1763054100@leadingagemissouri.org
SUMMARY:2025 Hands-On Caregiver Virtual Micro-Conference
DESCRIPTION:Practical\, people-first learning for your frontline caregivers\nPresented by LeadingAge Missouri and LeadingAge Kansas \nChoose the time that fits your team best: \n\nMorning Session: 8:00 AM – 12:15 PM CT\nAfternoon Session: 1:00 PM – 5:15 PM CT\n\nThe Hands-On Caregiver Virtual Conference delivers half-day\, interactive training created specifically for direct-care team members in senior living and long-term-care communities. Each session provides practical tools to strengthen communication\, documentation\, empathy\, and leadership on the front line of care. Both sessions feature the same content — simply choose the time that works best for your schedule. \nPro Tip: Buildings are encouraged to register multiple caregivers… one group for the morning and another for the afternoon\, to ensure full team participation. \n\nRegistration Options\n\nIndividual Registration: $25\nBuilding Registration (encouraged for groups of 12 or more attendees): $300\nNon-Member: $50/person or $600/building\n\nMorning & Afternoon Session Options\nWe encourage buildings to register multiple caregivers to attend. One way to send many caregivers through includes sending a group in the morning and a group to the afternoon. \nRegistrants are encouraged to attend either the morning or afternoon session entirely. It is not encouraged to attend some sessions in the morning and others in the afternoon. Share this Conference with Others on Your Team! \n \n\nNovember 13\, 2025 \nMorning Agenda \n\n8:00-8:15  | Welcome & Housekeeping\n8:15-9:30  | Dementia Care: Communication Through the Stages | Hollie Lowe\, MA\, LPC\, NCC\, James L. West Center for Dementia Care\n9:30-9:40 | Break\n9:40-10:20  | You Noticed\, You Spoke Up\, You Documented It: How Caregiver Documentation Impacts Lives and Outcomes | Treva Greaser\, BSN\, RN\, CRRN\, C-NE\, LNHA\, Treva Greaser Consulting\n10:20-10:30  | Break\n10:30-11:20  | Hospice 101: But I Don’t Work in Hospice! | Amy Hensley\, MSN\, RN\, Before the Casket\n11:20-12:00  | Leadership Keynote: Leading From Any Role | Karen Sturchio\n12:00-12:15  | Closing & Housekeeping\n\nAfternoon Agenda \n\n1:00-1:15 | Welcome & Housekeeping\n1:15-2:30 | Dementia Care: Communication Through the Stages | Hollie Lowe\, MA\, LPC\, NCC\, James L. West Center for Dementia Care\n2:30-2:40 | Break\n2:40-3:20 | You Noticed\, You Spoke Up\, You Documented It: How Caregiver Documentation Impacts Lives and Outcomes | Treva Greaser\, BSN\, RN\, CRRN\, C-NE\, LNHA\, Treva Greaser Consulting\n3:20-3:30 | Break\n3:30-4:20 | Hospice 101: But I Don’t Work in Hospice! | Amy Hensley\, MSN\, RN\, Before the Casket\n4:20-5:00 | Leadership Keynote: Leading From Any Role | Karen Sturchio\n5:00-5:15 | Closing & Housekeeping\n\nContinuing Education\nThis educational event is not approved for CE Credits for Administrators\, Nurses\, or otherwise. A Certificate of Completion will be provided to participants who complete an entire morning or afternoon session. \n*Dates and Times are subject to change. \n\n\n\nRegistration Policy\nRegistration for the 2025 Hands-On Caregiver Virtual Conference includes digital handouts and tools for each of the sessions\, connection(s) to the live conference (one connection per individual and one or multiple connections for buildings)\, and a Certificate of Attendance for each completed attendee. A recording of this conference is NOT included in the registration fee. \nCancellation Policies\nSubstitutions for events are always welcome. These individuals can be anyone employed on your campus\, board members\, resident family members\, or residents. Substitutes must be made for the whole event.
URL:https://leadingagemissouri.org/event/2025-hands-on-caregiver-virtual-micro-conference/
CATEGORIES:Activity Professionals,Caregivers,Human Resources,Operations
ATTACH;FMTTYPE=image/jpeg:https://leadingagemissouri.org/wp-content/uploads/2025/08/virtual-event_email.jpg
LOCATION:https://leadingagemissouri.org/event/2025-hands-on-caregiver-virtual-micro-conference/
END:VEVENT
END:VCALENDAR