BEGIN:VCALENDAR
VERSION:2.0
PRODID:-//LeadingAge Missouri - ECPv6.15.14//NONSGML v1.0//EN
CALSCALE:GREGORIAN
METHOD:PUBLISH
X-WR-CALNAME:LeadingAge Missouri
X-ORIGINAL-URL:https://leadingagemissouri.org
X-WR-CALDESC:Events for LeadingAge Missouri
REFRESH-INTERVAL;VALUE=DURATION:PT1H
X-Robots-Tag:noindex
X-PUBLISHED-TTL:PT1H
BEGIN:VTIMEZONE
TZID:America/Chicago
BEGIN:DAYLIGHT
TZOFFSETFROM:-0600
TZOFFSETTO:-0500
TZNAME:CDT
DTSTART:20240310T080000
END:DAYLIGHT
BEGIN:STANDARD
TZOFFSETFROM:-0500
TZOFFSETTO:-0600
TZNAME:CST
DTSTART:20241103T070000
END:STANDARD
BEGIN:DAYLIGHT
TZOFFSETFROM:-0600
TZOFFSETTO:-0500
TZNAME:CDT
DTSTART:20250309T080000
END:DAYLIGHT
BEGIN:STANDARD
TZOFFSETFROM:-0500
TZOFFSETTO:-0600
TZNAME:CST
DTSTART:20251102T070000
END:STANDARD
BEGIN:DAYLIGHT
TZOFFSETFROM:-0600
TZOFFSETTO:-0500
TZNAME:CDT
DTSTART:20260308T080000
END:DAYLIGHT
BEGIN:STANDARD
TZOFFSETFROM:-0500
TZOFFSETTO:-0600
TZNAME:CST
DTSTART:20261101T070000
END:STANDARD
END:VTIMEZONE
BEGIN:VEVENT
DTSTART;TZID=America/Chicago:20251112T110000
DTEND;TZID=America/Chicago:20251112T120000
DTSTAMP:20260423T025936
CREATED:20251021T162229Z
LAST-MODIFIED:20251021T162229Z
UID:10000095-1762945200-1762948800@leadingagemissouri.org
SUMMARY:Tipping Point: Exploring the Risks of Benefits Cliffs Among Direct Care Workers - Free Learning Event
DESCRIPTION:About the session: \nWage increases should move workers forward\, but for many in the direct care workforce\, they can instead trigger sudden losses in public benefits\, leaving them financially worse off. This phenomenon\, known as the benefits cliff\, poses a serious challenge to recruitment\, retention\, and advancement in long-term care. \nIn this webinar\, PositiveAge Executive Director Betsy Archer and Randi Hamill\, MSW\, Director of Workforce Development Initiatives for LeadingAge Ohio will share findings from a groundbreaking study examining how benefits cliffs affect direct care workers and what these results reveal about broader workforce and policy implications. You will gain insight into the financial realities facing direct care workers\, learn how benefits cliffs can undermine wage growth\, and explore strategies and policy approaches that can help create a more stable and sustainable care workforce. \nRegister here: LeadingAge Virginia \nFollowing this session\, you will be able to: \n\nDefine the concept of a benefits cliff and explain how it impacts the financial stability of direct care workers.\nInterpret key findings from the recent study conducted by LeadingAge Virginia\, PositiveAge\, a LeadingAge Virginia Foundation\, and PHI\, including examples of how small wage increases can result in disproportionate losses of public benefits.\nAnalyze the broader implications of benefits cliffs on workforce recruitment\, retention\, and advancement within aging services.\nIdentify potential strategies and policy approaches to mitigate the efforts of benefits cliffs and support a more stable direct care workforce.\n\nAbout the presenters:\nBetsy Archer\nExecutive Director \nPositiveAge\, a LeadingAge Virginia Foundation \nLearn more about Betsy and connect with her on LinkedIn. \n  \nRandi Hamill\, MSW\nDirector of Workforce Development Initiatives \nLeadingAge Ohio \nLearn more about Randi and connect with her on LinkedIn. \nThere are NO Ceu’s for this event
URL:https://leadingagemissouri.org/event/tipping-point-exploring-the-risks-of-benefits-cliffs-among-direct-care-workers-free-learning-event/
CATEGORIES:Human Resources,Leadership,Management,Operations
ATTACH;FMTTYPE=image/png:https://leadingagemissouri.org/wp-content/uploads/2025/10/Tipping-Point-Benefits-Cliff-Email-Banner.png
LOCATION:https://leadingagemissouri.org/event/tipping-point-exploring-the-risks-of-benefits-cliffs-among-direct-care-workers-free-learning-event/
END:VEVENT
END:VCALENDAR