BEGIN:VCALENDAR
VERSION:2.0
PRODID:-//LeadingAge Missouri - ECPv6.15.14//NONSGML v1.0//EN
CALSCALE:GREGORIAN
METHOD:PUBLISH
X-WR-CALNAME:LeadingAge Missouri
X-ORIGINAL-URL:https://leadingagemissouri.org
X-WR-CALDESC:Events for LeadingAge Missouri
REFRESH-INTERVAL;VALUE=DURATION:PT1H
X-Robots-Tag:noindex
X-PUBLISHED-TTL:PT1H
BEGIN:VTIMEZONE
TZID:America/Chicago
BEGIN:DAYLIGHT
TZOFFSETFROM:-0600
TZOFFSETTO:-0500
TZNAME:CDT
DTSTART:20240310T080000
END:DAYLIGHT
BEGIN:STANDARD
TZOFFSETFROM:-0500
TZOFFSETTO:-0600
TZNAME:CST
DTSTART:20241103T070000
END:STANDARD
BEGIN:DAYLIGHT
TZOFFSETFROM:-0600
TZOFFSETTO:-0500
TZNAME:CDT
DTSTART:20250309T080000
END:DAYLIGHT
BEGIN:STANDARD
TZOFFSETFROM:-0500
TZOFFSETTO:-0600
TZNAME:CST
DTSTART:20251102T070000
END:STANDARD
BEGIN:DAYLIGHT
TZOFFSETFROM:-0600
TZOFFSETTO:-0500
TZNAME:CDT
DTSTART:20260308T080000
END:DAYLIGHT
BEGIN:STANDARD
TZOFFSETFROM:-0500
TZOFFSETTO:-0600
TZNAME:CST
DTSTART:20261101T070000
END:STANDARD
END:VTIMEZONE
BEGIN:VEVENT
DTSTART;TZID=America/Chicago:20251102T180000
DTEND;TZID=America/Chicago:20251102T193000
DTSTAMP:20260423T043043
CREATED:20250811T211543Z
LAST-MODIFIED:20251030T162634Z
UID:10000086-1762106400-1762111800@leadingagemissouri.org
SUMMARY:Midwest State Night Out @ LeadingAge National Conference
DESCRIPTION:Midwest State Night: An Exclusive Networking Reception for LeadingAge Attendees \nAs you navigate the bustling LeadingAge National Conference in Boston\, we invite you to take a break and join us for a special evening of connection and camaraderie at the Midwest State Night. This exclusive reception\, hosted on Sunday\, November 2nd from 6:00 to 7:30 pm at the iconic Cheers Bar\, is a unique opportunity to network with your peers from LeadingAge Nebraska\, Iowa\, Illinois\, Missouri\, and Kansas. \nThis event is so much more than just a social gathering. It’s an opportunity to connect with your Midwest colleagues on a deeper level\, to share your experiences\, and to gain valuable insights that you can bring back to your own organizations. Indulge in delectable appetizers and drinks as you engage in thoughtful discussions and lighthearted conversations\, all while surrounded by the charm and ambiance of one of Boston’s most celebrated watering holes. Plus\, let’s be real\, who doesn’t love a good laugh and a chance to let loose after a long day of sessions? \nDon’t miss this opportunity to forge lasting connections and create unforgettable memories. Get your ticket now and get ready to immerse yourself in the warm\, inviting spirit of the Midwest\, right in the heart of Boston. We look forward to welcoming you to the Midwest State Night Out! \n \nIf you’d like to be a Sponsor or Co-host Midwest State Night Out- Please visit the links below \nCo-Host Sponsor Link- https://leadingageil.org/product/state-night-co-host-sponsorship/ \nEvent Sponsor Link- https://leadingageil.org/product/midwest-state-night-event-sponsorship/
URL:https://leadingagemissouri.org/event/midwest-state-night-out-leadingage-national-conference/
LOCATION:Cheers Boston\, 84 Beacon Street\, Boston\, MA\, 02108\, United States
CATEGORIES:Governance,Human Resources,Leadership,Management,Operations
ATTACH;FMTTYPE=image/png:https://leadingagemissouri.org/wp-content/uploads/2025/08/Midwest-State-Night-Exclusive-Invitation.png
END:VEVENT
END:VCALENDAR