BEGIN:VCALENDAR
VERSION:2.0
PRODID:-//LeadingAge Missouri - ECPv6.15.14//NONSGML v1.0//EN
CALSCALE:GREGORIAN
METHOD:PUBLISH
X-ORIGINAL-URL:https://leadingagemissouri.org
X-WR-CALDESC:Events for LeadingAge Missouri
REFRESH-INTERVAL;VALUE=DURATION:PT1H
X-Robots-Tag:noindex
X-PUBLISHED-TTL:PT1H
BEGIN:VTIMEZONE
TZID:America/Chicago
BEGIN:DAYLIGHT
TZOFFSETFROM:-0600
TZOFFSETTO:-0500
TZNAME:CDT
DTSTART:20240310T080000
END:DAYLIGHT
BEGIN:STANDARD
TZOFFSETFROM:-0500
TZOFFSETTO:-0600
TZNAME:CST
DTSTART:20241103T070000
END:STANDARD
BEGIN:DAYLIGHT
TZOFFSETFROM:-0600
TZOFFSETTO:-0500
TZNAME:CDT
DTSTART:20250309T080000
END:DAYLIGHT
BEGIN:STANDARD
TZOFFSETFROM:-0500
TZOFFSETTO:-0600
TZNAME:CST
DTSTART:20251102T070000
END:STANDARD
BEGIN:DAYLIGHT
TZOFFSETFROM:-0600
TZOFFSETTO:-0500
TZNAME:CDT
DTSTART:20260308T080000
END:DAYLIGHT
BEGIN:STANDARD
TZOFFSETFROM:-0500
TZOFFSETTO:-0600
TZNAME:CST
DTSTART:20261101T070000
END:STANDARD
END:VTIMEZONE
BEGIN:VEVENT
DTSTART;TZID=America/Chicago:20251023T090000
DTEND;TZID=America/Chicago:20251023T100000
DTSTAMP:20260423T043256
CREATED:20250721T152545Z
LAST-MODIFIED:20250728T150227Z
UID:10000083-1761210000-1761213600@leadingagemissouri.org
SUMMARY:Webinar: DEMENTIA CARE 101: The Emotional Needs of Persons Living with Dementia (& Tips for a Successful Holiday Season!)
DESCRIPTION:Join Carrie Chiusano as she draws on her extensive experience as a Dementia Care Specialist to explore the critical aspects of communication and the environment influencing the behavioral symptoms of dementia\, especially around holidays and special events. Discover how meaningful engagement not only enhances the lives of individuals living with dementia but also benefits their caregivers. Learn practical strategies for creating positive interactions and improving overall well-being as you prepare for the holiday season festivities with memory care residents. \nLearning Objectives:\n1. Understand the diverse spectrum of dementia and cognitive decline to enhance diagnostic awareness and intervention planning.\n2. Examine the symptoms\, progression patterns\, and underlying causes of various dementia types\, distinguishing normal aging processes from the early signs of Alzheimer’s and related conditions.\n3. Discover evidence-based strategies for common challenges faced by individuals and caregivers in effectively supporting residents experiencing cognitive decline. \nAbout the Presenter:\nCarrie has 30 plus years of long-term care experience with Presbyterian SeniorCare Network\, most of which have been dedicated to creating and evolving the Woodside Place Philosophy of specialty care for persons living with Alzheimer’s disease and related dementias. Prior to being appointed Executive Director for the Presbyterian SeniorCare Network Dementia Care Center of Excellence in January 2016\, Carrie served as the Administrator for Woodside Place of Oakmont\, which opened in 1991 and was one of the nation’s first dementia-specific residential care communities specifically designed to meet the holistic needs of older adults living with Alzheimer’s and related dementias. She was instrumental in championing the Culture Change initiative for the Network\, which led to us becoming CARF accredited in 2011 (ongoing accreditation through 2024) in Person Centered Care.\nAs Executive Director\, Carrie is responsible for the integration of dementia care services across the care and service continuum which comprise the Network. In this role\, Carrie:\n• Champions dementia care program development to offer a uniquely innovative and meaningful compendium of options for individuals living with Alzheimer’s and related dementias. The result is a vibrant and fluid interactions which are both personalized by for the individuals while assuring consistent quality across the continuum.\n• Plans and implements ongoing educational sessions which ensure every team member\, at every level of the organization has the deep and rich knowledge and competencies to meet the holistic needs of individuals living with Alzheimer’s and related dementia.\n• Builds and maintains strategic partnerships to support the Network in our goal of enhancing the quality of life both for the individuals impacted by the disease as well as family caregivers supporting those living with the disease.\nCarrie is the Champion for: the Network’s Dementia Care Integration team\, CARF accreditation in Dementia Care and the creation of the Dementia Care Center of Excellence: Expanding our Reach through the Center for Innovation and Care Transformation. In addition to her service on numerous industry association boards\, Carrie is a certified trainer for the National Council of Certified Dementia Practitioners in dementia care. \nApproved for 1 PC CEU: TA-015-42-26DL
URL:https://leadingagemissouri.org/event/webinar-dementia-care-101-the-emotional-needs-of-persons-living-with-dementia-tips-for-a-successful-holiday-season/
CATEGORIES:Activity Professionals,Governance,Human Resources,Leadership,Management,Operations
ATTACH;FMTTYPE=image/png:https://leadingagemissouri.org/wp-content/uploads/2025/07/Dementia-101_10.23.25.png
LOCATION:https://leadingagemissouri.org/event/webinar-dementia-care-101-the-emotional-needs-of-persons-living-with-dementia-tips-for-a-successful-holiday-season/
END:VEVENT
END:VCALENDAR