BEGIN:VCALENDAR
VERSION:2.0
PRODID:-//LeadingAge Missouri - ECPv6.15.14//NONSGML v1.0//EN
CALSCALE:GREGORIAN
METHOD:PUBLISH
X-WR-CALNAME:LeadingAge Missouri
X-ORIGINAL-URL:https://leadingagemissouri.org
X-WR-CALDESC:Events for LeadingAge Missouri
REFRESH-INTERVAL;VALUE=DURATION:PT1H
X-Robots-Tag:noindex
X-PUBLISHED-TTL:PT1H
BEGIN:VTIMEZONE
TZID:America/Chicago
BEGIN:DAYLIGHT
TZOFFSETFROM:-0600
TZOFFSETTO:-0500
TZNAME:CDT
DTSTART:20240310T080000
END:DAYLIGHT
BEGIN:STANDARD
TZOFFSETFROM:-0500
TZOFFSETTO:-0600
TZNAME:CST
DTSTART:20241103T070000
END:STANDARD
BEGIN:DAYLIGHT
TZOFFSETFROM:-0600
TZOFFSETTO:-0500
TZNAME:CDT
DTSTART:20250309T080000
END:DAYLIGHT
BEGIN:STANDARD
TZOFFSETFROM:-0500
TZOFFSETTO:-0600
TZNAME:CST
DTSTART:20251102T070000
END:STANDARD
BEGIN:DAYLIGHT
TZOFFSETFROM:-0600
TZOFFSETTO:-0500
TZNAME:CDT
DTSTART:20260308T080000
END:DAYLIGHT
BEGIN:STANDARD
TZOFFSETFROM:-0500
TZOFFSETTO:-0600
TZNAME:CST
DTSTART:20261101T070000
END:STANDARD
END:VTIMEZONE
BEGIN:VEVENT
DTSTART;TZID=America/Chicago:20251007T150000
DTEND;TZID=America/Chicago:20251007T160000
DTSTAMP:20260423T043041
CREATED:20250728T143134Z
LAST-MODIFIED:20250828T165452Z
UID:10000085-1759849200-1759852800@leadingagemissouri.org
SUMMARY:LeadingAge Missouri Annual Business Meeting & Expert Trends from NIC
DESCRIPTION:Beyond the Boom: Supply\, Demand\, and Changing Sector Dynamics \nPresenter: Lisa McCracken\, Head of Research and Analytics\, NIC \nWe are in the midst of historical times in our sector with compelling demographics and the increasing need for housing and support services among older adults. Will those tailwinds cushion us from potential threats to what we currently offer today’s customers? How is our sector changing and how will we need to pivot to remain viable? This session will cover an overview of the key supply and demand trends in the sector and an outlook for what lies ahead. \nDemand Trends in Senior Living \n\n\n\nDemographic trends\n\nNational\, Missouri\, select MO markets\n\n\nConsumer Characteristics (Boomers\, Gen X)\n\nSolo agers\, Net worth/income\, Preferences\n\n\nWorkforce\n\n\n\n  \nExisting Market Fundamentals & Growth \n\n\n\n2Q25 Market Fundamentals (Occupancy\, record-level absorption\, unit growth\, construction starts at record lows\, etc.)\n\nNational\, Missouri\, select MO markets\n\n\nGrowth (affiliations/acquisitions\, expansions\, new developments\, emerging models)\nInsights into NFP vs FP growth\n“Attainable housing” – affordability\nSupply & demand dynamics – future supply shortage?\n\n\n\n  \nOutlook for Senior Living Sector:  \n\n\n\nOpportunities\nThreats\n\n\n\n  \nDiscussion\, Q&A \nApproved for 1 Administrator CEU (TA-015-43-26DL)
URL:https://leadingagemissouri.org/event/leadingage-missouri-annual-business-meeting-expert-trends-from-nic/
CATEGORIES:Management
ATTACH;FMTTYPE=image/png:https://leadingagemissouri.org/wp-content/uploads/2025/07/LA-MO-Transparent-Background-scaled.png
LOCATION:https://leadingagemissouri.org/event/leadingage-missouri-annual-business-meeting-expert-trends-from-nic/
END:VEVENT
END:VCALENDAR