BEGIN:VCALENDAR
VERSION:2.0
PRODID:-//LeadingAge Missouri - ECPv6.15.14//NONSGML v1.0//EN
CALSCALE:GREGORIAN
METHOD:PUBLISH
X-ORIGINAL-URL:https://leadingagemissouri.org
X-WR-CALDESC:Events for LeadingAge Missouri
REFRESH-INTERVAL;VALUE=DURATION:PT1H
X-Robots-Tag:noindex
X-PUBLISHED-TTL:PT1H
BEGIN:VTIMEZONE
TZID:America/Chicago
BEGIN:DAYLIGHT
TZOFFSETFROM:-0600
TZOFFSETTO:-0500
TZNAME:CDT
DTSTART:20240310T080000
END:DAYLIGHT
BEGIN:STANDARD
TZOFFSETFROM:-0500
TZOFFSETTO:-0600
TZNAME:CST
DTSTART:20241103T070000
END:STANDARD
BEGIN:DAYLIGHT
TZOFFSETFROM:-0600
TZOFFSETTO:-0500
TZNAME:CDT
DTSTART:20250309T080000
END:DAYLIGHT
BEGIN:STANDARD
TZOFFSETFROM:-0500
TZOFFSETTO:-0600
TZNAME:CST
DTSTART:20251102T070000
END:STANDARD
BEGIN:DAYLIGHT
TZOFFSETFROM:-0600
TZOFFSETTO:-0500
TZNAME:CDT
DTSTART:20260308T080000
END:DAYLIGHT
BEGIN:STANDARD
TZOFFSETFROM:-0500
TZOFFSETTO:-0600
TZNAME:CST
DTSTART:20261101T070000
END:STANDARD
END:VTIMEZONE
BEGIN:VEVENT
DTSTART;TZID=America/Chicago:20250820T130000
DTEND;TZID=America/Chicago:20250820T140000
DTSTAMP:20260423T091716
CREATED:20250812T192611Z
LAST-MODIFIED:20250812T192611Z
UID:10000089-1755694800-1755698400@leadingagemissouri.org
SUMMARY:Free Learning Webinar - Bespoke Psychiatry presents: Challenging the Stigma: How Nursing Home Staff Can Advocate for Mental Health Care
DESCRIPTION:Please join us on Wednesday\, August 20th at 1pm for a webinar facilitated by Dr. Krushen Pillay\, DO\, Board Certified Adult and Geriatric Psychiatrist and Chief Medical Officer at Bespoke Psychiatry. He will be presenting on how to advocate for long term care residents to engage mental health and psychiatric services. \nJoin us each 3rd Wednesday of the month for our monthly webinar series: \nVideo call link: https://meet.google.com/qbz-wabi-ibf \nOr dial: ‪(US) +1 754-702-3137 PIN: ‪501 812 005# \n\n\n\nJoin Here\n\n\n\nMore phone numbers: https://tel.meet/qbz-wabi-ibf?pin=7778447725451
URL:https://leadingagemissouri.org/event/free-learning-webinar-bespoke-psychiatry-presents-challenging-the-stigma-how-nursing-home-staff-can-advocate-for-mental-health-care/
CATEGORIES:Activity Professionals,Caregivers,Governance,Human Resources,Leadership,Management,Operations
ATTACH;FMTTYPE=image/png:https://leadingagemissouri.org/wp-content/uploads/2025/04/BespokeLogo.png
LOCATION:https://meet.google.com/qbz-wabi-ibf
END:VEVENT
END:VCALENDAR