BEGIN:VCALENDAR
VERSION:2.0
PRODID:-//LeadingAge Missouri - ECPv6.15.14//NONSGML v1.0//EN
CALSCALE:GREGORIAN
METHOD:PUBLISH
X-ORIGINAL-URL:https://leadingagemissouri.org
X-WR-CALDESC:Events for LeadingAge Missouri
REFRESH-INTERVAL;VALUE=DURATION:PT1H
X-Robots-Tag:noindex
X-PUBLISHED-TTL:PT1H
BEGIN:VTIMEZONE
TZID:America/Chicago
BEGIN:DAYLIGHT
TZOFFSETFROM:-0600
TZOFFSETTO:-0500
TZNAME:CDT
DTSTART:20240310T080000
END:DAYLIGHT
BEGIN:STANDARD
TZOFFSETFROM:-0500
TZOFFSETTO:-0600
TZNAME:CST
DTSTART:20241103T070000
END:STANDARD
BEGIN:DAYLIGHT
TZOFFSETFROM:-0600
TZOFFSETTO:-0500
TZNAME:CDT
DTSTART:20250309T080000
END:DAYLIGHT
BEGIN:STANDARD
TZOFFSETFROM:-0500
TZOFFSETTO:-0600
TZNAME:CST
DTSTART:20251102T070000
END:STANDARD
BEGIN:DAYLIGHT
TZOFFSETFROM:-0600
TZOFFSETTO:-0500
TZNAME:CDT
DTSTART:20260308T080000
END:DAYLIGHT
BEGIN:STANDARD
TZOFFSETFROM:-0500
TZOFFSETTO:-0600
TZNAME:CST
DTSTART:20261101T070000
END:STANDARD
END:VTIMEZONE
BEGIN:VEVENT
DTSTART;TZID=America/Chicago:20250521T130000
DTEND;TZID=America/Chicago:20250521T140000
DTSTAMP:20260424T001350
CREATED:20250514T215103Z
LAST-MODIFIED:20250514T215103Z
UID:10000074-1747832400-1747836000@leadingagemissouri.org
SUMMARY:Dementia II: From Medications to Meaningful Interventions - Free Learning Webinar
DESCRIPTION:Please join us for us for the next webinar in the series on Dementia presented by Dr. Ahmed Maki\, DO board certified adult and geriatric psychiatrist and Medical Director of Post-Acute and Inpatient Hospital Divisions at Bespoke Psychiatry. \nDr. Maki will be continuing the discussion from his talk in February entitled Dementia: Understanding the Different Types and Stages. \nPlease join us to discuss transitioning Dementia treatment from Medications to Meaningful Interventions on:\nWednesday\, May 21st 1pm (CST) \nmeeting link: meet.google.com/qbz-wabi-ibf. \nJoin us each month for Bespoke’s Webinar series–coming up on June 18th: Dr. Jacob Fyda presents on How to safely de-prescribe medications in the Long Term Care setting.
URL:https://leadingagemissouri.org/event/dementia-ii-from-medications-to-meaningful-interventions-free-learning-webinar/
CATEGORIES:Human Resources,Leadership,Management
ATTACH;FMTTYPE=image/png:https://leadingagemissouri.org/wp-content/uploads/2025/04/BespokeLogo.png
END:VEVENT
END:VCALENDAR