BEGIN:VCALENDAR
VERSION:2.0
PRODID:-//LeadingAge Missouri - ECPv6.15.14//NONSGML v1.0//EN
CALSCALE:GREGORIAN
METHOD:PUBLISH
X-WR-CALNAME:LeadingAge Missouri
X-ORIGINAL-URL:https://leadingagemissouri.org
X-WR-CALDESC:Events for LeadingAge Missouri
REFRESH-INTERVAL;VALUE=DURATION:PT1H
X-Robots-Tag:noindex
X-PUBLISHED-TTL:PT1H
BEGIN:VTIMEZONE
TZID:America/Chicago
BEGIN:DAYLIGHT
TZOFFSETFROM:-0600
TZOFFSETTO:-0500
TZNAME:CDT
DTSTART:20240310T080000
END:DAYLIGHT
BEGIN:STANDARD
TZOFFSETFROM:-0500
TZOFFSETTO:-0600
TZNAME:CST
DTSTART:20241103T070000
END:STANDARD
BEGIN:DAYLIGHT
TZOFFSETFROM:-0600
TZOFFSETTO:-0500
TZNAME:CDT
DTSTART:20250309T080000
END:DAYLIGHT
BEGIN:STANDARD
TZOFFSETFROM:-0500
TZOFFSETTO:-0600
TZNAME:CST
DTSTART:20251102T070000
END:STANDARD
BEGIN:DAYLIGHT
TZOFFSETFROM:-0600
TZOFFSETTO:-0500
TZNAME:CDT
DTSTART:20260308T080000
END:DAYLIGHT
BEGIN:STANDARD
TZOFFSETFROM:-0500
TZOFFSETTO:-0600
TZNAME:CST
DTSTART:20261101T070000
END:STANDARD
END:VTIMEZONE
BEGIN:VEVENT
DTSTART;TZID=America/Chicago:20250423T130000
DTEND;TZID=America/Chicago:20250423T140000
DTSTAMP:20260423T190812
CREATED:20250411T153845Z
LAST-MODIFIED:20250411T154116Z
UID:10000071-1745413200-1745416800@leadingagemissouri.org
SUMMARY:Medical Conditions that Mimic Psychiatric Disorders - Free Learning Webinar
DESCRIPTION:  \n\n\n\n\n\n\n\nJoin us for April’s webinar:\n\n\n\n  \n\n\n\n\nMedical Conditions that Mimic Psychiatric Disorders\n\n\n\n\n  \n\n\n\nPlease join us on Wednesday\, April 23rd at 1pm for a webinar presentation from Dr. Jacob Fyda\, MD board certified adult and geriatric psychiatrist and CEO at Bespoke Psychiatry. \nDr. Fyda will be presenting on common presentations that are related to medical conditions yet are often difficult to distinguish from psychiatric disorders. \nPlease join us each month for a webinar presentation:  \n3rd Wednesday of each month \n1pm CST \nvideo link:  https://meet.google.com/qbz-wabi-ibf \nOr dial: ‪(US) +1 754-702-3137 PIN: ‪501 812 005# \nMore phone numbers: https://tel.meet/qbz-wabi-ibf?pin=7778447725451\n\n\n\n 
URL:https://leadingagemissouri.org/event/medical-conditions-that-mimic-psychiatric-disorders-free-learning-webinar/
ATTACH;FMTTYPE=image/png:https://leadingagemissouri.org/wp-content/uploads/2025/04/BespokeLogo.png
END:VEVENT
END:VCALENDAR