BEGIN:VCALENDAR
VERSION:2.0
PRODID:-//LeadingAge Missouri - ECPv6.15.14//NONSGML v1.0//EN
CALSCALE:GREGORIAN
METHOD:PUBLISH
X-ORIGINAL-URL:https://leadingagemissouri.org
X-WR-CALDESC:Events for LeadingAge Missouri
REFRESH-INTERVAL;VALUE=DURATION:PT1H
X-Robots-Tag:noindex
X-PUBLISHED-TTL:PT1H
BEGIN:VTIMEZONE
TZID:America/Chicago
BEGIN:DAYLIGHT
TZOFFSETFROM:-0600
TZOFFSETTO:-0500
TZNAME:CDT
DTSTART:20240310T080000
END:DAYLIGHT
BEGIN:STANDARD
TZOFFSETFROM:-0500
TZOFFSETTO:-0600
TZNAME:CST
DTSTART:20241103T070000
END:STANDARD
BEGIN:DAYLIGHT
TZOFFSETFROM:-0600
TZOFFSETTO:-0500
TZNAME:CDT
DTSTART:20250309T080000
END:DAYLIGHT
BEGIN:STANDARD
TZOFFSETFROM:-0500
TZOFFSETTO:-0600
TZNAME:CST
DTSTART:20251102T070000
END:STANDARD
BEGIN:DAYLIGHT
TZOFFSETFROM:-0600
TZOFFSETTO:-0500
TZNAME:CDT
DTSTART:20260308T080000
END:DAYLIGHT
BEGIN:STANDARD
TZOFFSETFROM:-0500
TZOFFSETTO:-0600
TZNAME:CST
DTSTART:20261101T070000
END:STANDARD
END:VTIMEZONE
BEGIN:VEVENT
DTSTART;TZID=America/Chicago:20250313T180000
DTEND;TZID=America/Chicago:20250313T190000
DTSTAMP:20260424T035112
CREATED:20250304T164504Z
LAST-MODIFIED:20250306T145700Z
UID:10000057-1741888800-1741892400@leadingagemissouri.org
SUMMARY:Activity Center - "The ESCAPADE Mission to Mars"
DESCRIPTION:This is a free webinar for anyone to attend.  This is a NASA sponsored event to learn from astronauts and their findings. \nPlease see below for additional details about our next senior outreach event\, scheduled for Thursday\, March 13 at 7:00 p.m. ET / 4:00 p.m. PT. Note that we will have two guest speakers for this program. \n\nTalk Title: “The ESCAPADE Mission to Mars”\nTalk Description: The Escape and Plasma Acceleration and Dynamics Explorers (ESCAPADE) mission will demonstrate low-cost planetary space exploration. In this talk\, you’ll discover how the twin spacecraft will study Mars’ unique magnetosphere and how the solar wind contributed to the loss of the Red Planet’s atmosphere.\nSpeakers: Dr. Michele Cash (NASA HQ) and Alan Zide (NASA HQ)\nSpeaker Bios:\n\nDr. Michele Cash is the Program Scientist for the Heliophysics Escape and Plasma Acceleration and Dynamics Explorers (ESCAPADE) mission and the Deputy Program Scientist for the Interstellar Mapping and Acceleration Probe (IMAP) mission. Dr. Cash is a physicist whose research focuses on planetary habitability\, geomagnetic storms in space\, and space weather impacts. Previously\, she spent 12 years working at the NOAA Space Weather Prediction Center\, where she led the research division and served as the technical lead for the operational Geospace model. As a National Science Foundation (NSF) Astrobiology Research Fellow\, she investigated the use of auroral signatures to determine exoplanet atmospheric composition. Dr. Cash enjoys the interdisciplinary aspects of heliophysics and loves collaborations that bridge different scientific disciplines.\nAlan Zide is the Program Executive for the Heliophysics Escape and Plasma Acceleration and Dynamics Explorers (ESCAPADE) and Multi-slit Solar Explorer (MUSE) science missions. He led the Interstellar Mapping and Acceleration Probe (IMAP) rideshare implementation and is a member of the NASA Science Mission Directorate (SMD) Rideshare Office. Zide also led an international team that launched Solar Orbiter and was the Program Executive for Parker Solar Probe during its operational phase. Previously\, he served in the NASA HQ Chief Technologist Office leading cross-agency teams developing the Strategic Technology Implementation Plan (STIP) and Technology Roadmaps. He began his career in industry at Rockwell Satellite Systems/Boeing as a spacecraft avionics engineer designing spacecraft computer command and data handling systems. Zide has also received the Silver Snoopy award for his key leadership and creative implementation approaches of the commercialization of NASA’s Kennedy Space Center for the multi-user spaceport.\n\n\nWebEx Connection Info:\n\nJoin from the webinar link: https://nasaenterprise.webex.com/nasaenterprise/j.php?MTID=m0ff4c7a65d48622703662cecb3a1acbb\n\nYou may need to select the “join from your browser” option\n\n\nWebinar number (access code): 2838 722 3928\nWebinar password: UCsB3fpU*23 (82723378 when dialing from a phone or video system)\nJoin by phone:\n\n+1-929-251-9612 United States Toll (New York City)\n+1-415-527-5035 United States Toll
URL:https://leadingagemissouri.org/event/activity-center-the-escapade-mission-to-mars/
CATEGORIES:Activity Professionals
ATTACH;FMTTYPE=image/jpeg:https://leadingagemissouri.org/wp-content/uploads/2025/03/NASA-Photo.jpg
END:VEVENT
END:VCALENDAR